Workbook

Sheet Raw Entry Data
A1: name | B1: age | C1: wt class | D1: divisions
A2: John Wrenn | B2: 20 | C2: 52 | D2: Jr. Full Power | E2: Jr | F2: Full
A3: Stephen Wrenn | B3: 15 | C3: 56 | D3: T1 Full Power, single sq, b, dl | E3: T1 | F3: Full | G3: Sq | H3: BP | I3: DL
A4: Roger Horn | B4: 63 | C4: 110 | D4: M5 Full Power, single sq, b, dl | E4: M5 | F4: Full | G4: Sq | H4: BP | I4: DL
A5: Kimberly Morgan | B5: 56 | C5: 58.5 | D5: M4 Full Power | E5: M4 | F5: Full
A6: Beth Perrin | B6: 56 | C6: 80 | D6: M4 Full Power | E6: M4 | F6: Full
A7: Brent Wrenn | B7: 22 | C7: 56 | D7: Jr. Full Power | E7: Jr | F7: Full
A8: Darren Phelps | B8: 37 | C8: 100 | D8: Open Full Power | E8: Open | F8: Full
A9: Wally Seibel | B9: 56 | C9: 90 | D9: M4 Full Power, single sq, b, dl | E9: M4 | F9: Full | G9: Sq | H9: BP | I9: DL
A10: Justin Huston | B10: 29 | C10: 145+ | D10: Open Full Power | E10: Open | F10: Full
A11: Michelle Lomelino | B11: 23 | C11: 58.5 | D11: Jr. Full Power | E11: Jr | F11: Full
A12: Jacob Whitley | B12: 25 | C12: 90 | D12: Open Full Power | E12: Open | F12: Full
A13: Shelly Frazier | B13: 41 | D13: M1 Full Power, single sq, b, dl | E13: M1 | F13: Full | G13: Sq | H13: BP | I13: DL
A14: Nicholas Russell | B14: 17 | C14: 82.5 | D14: T2 Full Power, single sq, b, dl | E14: T2 | F14: Full | G14: Sq | H14: BP | I14: DL
A17: Jon Myres | B17: 26 | C17: 90 | D17: Open Single B | E17: Open | H17: BP
A18: Aaron O'Neill | B18: 17 | D18: T2 Single B | E18: T2 | H18: BP
A19: Charla Wrenn | B19: 44 | C19: 90 | D19: M1 Single B, DL | E19: M1 | H19: BP | I19: DL
A20: Cody Brant | B20: 22 | C20: 145 | D20: Jr. Single Eq. Bench, Eq. Dl | E20: Jr | K20: EBP | L20: EDL
A21: Jordan Richie | B21: 21 | C21: 145 | D21: Jr. Single Eq. Sq. UnEq. Bench, Eq. Dl | E21: Jr | H21: BP | J21: Esq | L21: EDL
A24: Doug Peterson
A25: Jaymie Beal
A26: Josh Jacobs

Sheet Comp Master Results
F1: Bench UE | I1: Best | J1: Squat UE | M1: Best | N1: Deadlift UE | Q1: Best | R1: EQ Bench | U1: Best | V1: EQ Squat | Y1: Best | Z1: EQ Deadlift | AC1: Best | AD1: Total | AE1: Coefficient | AF1: Adjusted
A2: John Wrenn | B2: 20 | C2: 52 | D2: Jr. Full Power | E2: Jr | F2: 80 | G2: 90 | H2: 97.5 | I2: 97.5 | J2: 135 | K2: 145 | L2: 155 | M2: 155 | N2: 150 | O2: 160 | P2: 170 | Q2: 170 | AD2: =(I2+M2+Q2+U2+Y2+AC2) -> 422.5 | AE2: 0.9307 | AF2: =AD2*AE2 -> 393.22075
A3: Brent Wrenn | B3: 22 | C3: 60 | D3: Jr. Full Power | E3: Jr | F3: 55 | G3: 60 | H3: 62.5 | I3: 60 | J3: 70 | K3: 75 | L3: 80 | M3: 80 | N3: 60 | O3: 70 | P3: 100 | Q3: 100 | AD3: =(I3+M3+Q3+U3+Y3+AC3) -> 240 | AE3: 0.8453 | AF3: =AD3*AE3 -> 202.872
A4: Michelle Lomelino | B4: 23 | C4: 55.5 | D4: Jr. Full Power | E4: Jr | F4: 35 | G4: 40 | H4: 47.5 | I4: 40 | J4: 70 | K4: 77.5 | L4: 80 | M4: 70 | N4: 85 | O4: 95 | P4: 102.5 | Q4: 102.5 | AD4: =(I4+M4+Q4+U4+Y4+AC4) -> 212.5 | AE4: 0.9333 | AF4: =AD4*AE4 -> 198.32625
A5: Cody Brant | B5: 22 | C5: 145 | D5: Jr. Single Eq. Bench, Eq. Dl | E5: Jr | R5: 275 | S5: 285 | T5: 285 | V5: 315 | W5: 340 | X5: 365 | Y5: 340 | Z5: 280 | AA5: 295 | AB5: 295 | AC5: 280
A6: Jordan Richie | B6: 21 | C6: 145 | D6: Jr. Single Eq. Sq. UnEq. Bench, Eq. Dl | E6: Jr | F6: 122.5 | G6: 127.5 | H6: 135 | I6: 127.5 | V6: 227.5 | W6: 240 | X6: 252.5 | Y6: 252.5 | Z6: 250 | AA6: 265 | AB6: 272.5 | AC6: 265
A7: Taylor Epperson | C7: 110 | E7: Jr | F7: 150 | G7: 160 | H7: 160 | I7: 150 | J7: 205 | K7: 220 | L7: 227.5 | M7: 227.5 | N7: 200 | O7: 210 | P7: 225 | Q7: 225 | AD7: =(I7+M7+Q7+U7+Y7+AC7) -> 602.5 | AE7: 0.5391 | AF7: =AD7*AE7 -> 324.80775
A8: Shelly Frazier | B8: 41 | C8: 55.5 | D8: M1 Full Power, single sq, b, dl | E8: M1 | F8: 70 | G8: 72.5 | H8: 73.5 | I8: 72.5 | J8: 60 | K8: 65 | L8: 70 | M8: 70 | N8: 105 | O8: 112.5 | P8: 117.5 | Q8: 117.5 | AD8: =(I8+M8+Q8+U8+Y8+AC8) -> 260 | AE8: 0.9625 | AF8: =AD8*AE8 -> 250.25
A9: Charla Wrenn | B9: 44 | C9: 90 | D9: M1 Single B, DL | E9: M1 | F9: 42.5 | G9: 47.5 | H9: 52.5 | I9: 52.5 | N9: 80 | O9: 90 | P9: 95 | Q9: 95
A10: Kimberly Morgan | B10: 56 | C10: 58.5 | D10: M4 Full Power | E10: M4 | F10: 55 | G10: 57.5 | H10: 60 | I10: 60 | J10: 75 | K10: 80 | L10: 85 | M10: 80 | N10: 97.5 | O10: 105 | P10: 105 | Q10: 105 | AD10: =(I10+M10+Q10+U10+Y10+AC10) -> 245 | AE10: 0.8928 | AF10: =AD10*AE10 -> 218.736
A11: Beth Perrin | B11: 56 | C11: 80 | D11: M4 Full Power | E11: M4 | F11: 42.5 | G11: 45 | H11: 47.5 | I11: 47.5 | J11: 35 | K11: 40 | L11: 50 | M11: 50 | N11: 77.5 | O11: 87.5 | P11: 100 | Q11: 100 | AD11: =(I11+M11+Q11+U11+Y11+AC11) -> 197.5 | AE11: 0.6949 | AF11: =AD11*AE11 -> 137.24275
A12: Wally Seibel | B12: 56 | C12: 90 | D12: M4 Full Power, single sq, b, dl | E12: M4 | F12: 100 | G12: 107.5 | H12: 115 | I12: 107.5 | J12: 145 | K12: 162.5 | L12: 165 | M12: 165 | N12: 157.5 | O12: 180 | P12: 197.5 | Q12: 197.5 | AD12: =(I12+M12+Q12+U12+Y12+AC12) -> 470 | AE12: 0.5914 | AF12: =AD12*AE12 -> 277.958
A13: Roger Horn | B13: 63 | C13: 110 | D13: M5 Full Power, single sq, b, dl | E13: M5 | F13: 102.5 | G13: 107.5 | H13: 115 | I13: 107.5 | J13: 137.5 | K13: 142.5 | L13: 150 | M13: 150 | N13: 172.5 | O13: 185 | P13: 192.5 | Q13: 192.5 | AD13: =(I13+M13+Q13+U13+Y13+AC13) -> 450 | AE13: 0.5446 | AF13: =AD13*AE13 -> 245.07
A14: Darren Phelps | B14: 37 | C14: 100 | D14: Open Full Power | E14: Open | F14: 125 | G14: 132.5 | H14: 137.5 | I14: 132.5 | J14: 205 | K14: 212.5 | L14: 212.5 | M14: 212.5 | N14: 185 | O14: 190 | P14: NA | Q14: 185 | AD14: =(I14+M14+Q14+U14+Y14+AC14) -> 530 | AE14: 0.5589 | AF14: =AD14*AE14 -> 296.217
A15: Justin Huston | B15: 29 | C15: 145+ | D15: Open Full Power | E15: Open | F15: 125 | G15: 150 | H15: 175 | I15: 150 | J15: 125 | K15: 147.5 | L15: 182.5 | M15: 125 | N15: 140 | O15: 160 | P15: 200 | Q15: 200 | AD15: =(I15+M15+Q15+U15+Y15+AC15) -> 475 | AE15: 0.4967 | AF15: =AD15*AE15 -> 235.9325
A16: Jacob Whitley | B16: 25 | C16: 90 | D16: Open Full Power | E16: Open | F16: 102.5 | G16: 110 | H16: 117.5 | I16: 117.5 | J16: 145 | K16: 165 | L16: 175 | M16: 175 | N16: 185 | O16: 197.5 | P16: 205 | Q16: 205 | AD16: =(I16+M16+Q16+U16+Y16+AC16) -> 497.5 | AE16: 0.5943 | AF16: =AD16*AE16 -> 295.66425
A17: Jon Myres | B17: 26 | C17: 90 | D17: Open Single B | E17: Open | F17: 110 | G17: 115 | H17: 120 | I17: 115
A18: Josh Jacobs | C18: 145 | E18: Open | F18: 170 | G18: 177.5 | H18: 187.5 | I18: 177.5 | J18: 202.5 | K18: 210 | L18: 225 | M18: 210 | N18: 207.5 | O18: 225 | P18: 232.5 | Q18: 232.5 | AD18: =(I18+M18+Q18+U18+Y18+AC18) -> 620 | AE18: 0.5152 | AF18: =AD18*AE18 -> 319.424
A19: Stephen Wrenn | B19: 15 | C19: 56 | D19: T1 Full Power, single sq, b, dl | E19: T1 | F19: 50 | G19: 57.5 | H19: 62.5 | I19: 57.5 | J19: 70 | K19: 77.5 | L19: 82.5 | M19: 77.5 | N19: 107.5 | O19: 115 | P19: 122.5 | Q19: 122.5 | AD19: =(I19+M19+Q19+U19+Y19+AC19) -> 257.5 | AE19: 0.9073 | AF19: =AD19*AE19 -> 233.62975
A20: Nicholas Russell | B20: 17 | C20: 82.5 | D20: T2 Full Power, single sq, b, dl | E20: T2 | F20: 102.5 | G20: 105 | H20: 110 | I20: 110 | J20: 130 | K20: 140 | L20: 155 | M20: 140 | N20: 147.5 | O20: 155 | P20: 162.5 | Q20: 162.5 | AD20: =(I20+M20+Q20+U20+Y20+AC20) -> 412.5 | AE20: 0.6577 | AF20: =AD20*AE20 -> 271.30125
A21: Aaron O'Neill | B21: 17 | C21: 75 | D21: T2 Single B | E21: T2 | F21: 110 | G21: 115 | H21: 122.5 | I21: 122.5

Sheet Mens Best Lifter
A1: Lifter | B1: Adjusted Total
A2: John Wrenn | B2: ='Comp Master Results'!AF2 -> 393.22075
A3: Taylor Epperson | B3: ='Comp Master Results'!AF7 -> 324.80775
A4: Josh Jacobs | B4: ='Comp Master Results'!AF18 -> 319.424
A5: Darren Phelps | B5: ='Comp Master Results'!AF14 -> 296.217
A6: Jacob Whitley | B6: ='Comp Master Results'!AF16 -> 295.66425
A7: Wally Seibel | B7: ='Comp Master Results'!AF12 -> 277.958
A8: Nicholas Russell | B8: ='Comp Master Results'!AF20 -> 271.30125
A9: Roger Horn | B9: ='Comp Master Results'!AF13 -> 245.07
A10: Justin Huston | B10: ='Comp Master Results'!AF15 -> 235.9325
A11: Stephen Wrenn | B11: ='Comp Master Results'!AF19 -> 233.62975
A12: Brent Wrenn | B12: ='Comp Master Results'!AF3 -> 202.872

Sheet Womens Best Lifter
A1: Lifter | B1: Adjusted Total
A2: Shelly Frazier | B2: ='Comp Master Results'!AF8 -> 250.25
A3: Kimberly Morgan | B3: ='Comp Master Results'!AF10 -> 218.736
A4: Michelle Lomelino | B4: ='Comp Master Results'!AF4 -> 198.32625
A5: Beth Perrin | B5: ='Comp Master Results'!AF11 -> 137.24275
