Workbook

Sheet Open
A1: Lifter | B1: Hometown | C1: Age Group | D1: Weight Class | E1: Weight | F1: Squat | J1: Bench | N1: Deadlift | R1: EQ Squat | V1: EQ Bench | Z1: EQ Deadlift | AD1: Total | AE1: Coefficient | AF1: Adj. Total
F2: Lift 1 | G2: Lift 2 | H2: Lift 3 | I2: Best | J2: Lift 1 | K2: Lift 2 | L2: Lift 3 | M2: Best | N2: Lift 1 | O2: Lift 2 | P2: Lift 3 | Q2: Best | R2: Lift 1 | S2: Lift 2 | T2: Lift 3 | U2: Best | V2: Lift 1 | W2: Lift 2 | X2: Lift 3 | Y2: Best | Z2: Lift 1 | AA2: Lift 2 | AB2: Lift 3 | AC2: Best
A3: Shelly Frazier | B3: Columbia, MO | C3: M1 | D3: 50.5 | E3: 50.1 | F3: 0 | G3: 0 | H3: 0 | I3: 0 | J3: 62.5 | K3: 65 | L3: 67.5 | M3: 67.5 | N3: 0 | O3: 0 | P3: 0 | Q3: 0 | AD3: =AC3+Y3+U3+Q3+M3+I3 -> 67.5 | AF3: =AD3*AE3 -> 0
A4: Charla J. Wrenn | B4: Good Hope, IL | C4: M2 | D4: 90+ | E4: 94.5 | F4: 25 | G4: 30 | H4: 35 | I4: 35 | J4: 50 | K4: 55 | L4: 57.5 | M4: 57.5 | N4: 80 | O4: 90 | P4: 95 | Q4: 90 | AD4: =AC4+Y4+U4+Q4+M4+I4 -> 182.5 | AE4: 0.616 | AF4: =AD4*AE4 -> 112.42
A5: Pat Okker | B5: Columbia, MO | C5: M3 | D5: 55.5 | E5: 55.5 | F5: 65 | G5: 70 | H5: 73 | I5: 73 | J5: 50 | K5: 52.5 | L5: 55 | M5: 52.5 | N5: 90 | O5: 95 | P5: 97.5 | Q5: 95 | AD5: =AC5+Y5+U5+Q5+M5+I5 -> 220.5 | AE5: 0.918 | AF5: =AD5*AE5 -> 202.419
A6: Jeanne Kuckelman | B6: Keokuk, IA | C6: M3 | D6: 70 | E6: 65.9 | F6: 62.5 | G6: 65 | H6: 67.5 | I6: 67.5 | J6: 55 | K6: 57.5 | L6: 60 | M6: 60 | N6: 90 | O6: 100 | P6: 110 | Q6: 110 | AD6: =AC6+Y6+U6+Q6+M6+I6 -> 237.5 | AE6: 0.7948 | AF6: =AD6*AE6 -> 188.765
A7: Beth Van Hove | B7: Columbia, MO | C7: M3 | D7: 90+ | E7: 92.2 | F7: 60 | G7: 67.5 | H7: 72.5 | I7: 72.5 | J7: 50 | K7: 57.5 | L7: 58.5 | M7: 58.5 | N7: 100 | O7: 105 | P7: 107.5 | Q7: 107.5 | AD7: =AC7+Y7+U7+Q7+M7+I7 -> 238.5 | AE7: 0.6236 | AF7: =AD7*AE7 -> 148.7286
A8: Wally Seibel | B8: Chicota, TX | C8: M4 | D8: 100 | E8: 95.3 | F8: 155 | G8: 180 | H8: 192.5 | I8: 192.5 | J8: 105 | K8: 112.5 | L8: 117.5 | M8: 117.5 | N8: 165 | O8: 190 | P8: 200 | Q8: 190 | AD8: =AC8+Y8+U8+Q8+M8+I8 -> 500 | AE8: 0.5669 | AF8: =AD8*AE8 -> 283.45
A9: Terry Douglass | B9: Columbia, MO | C9: M5 | D9: 70 | E9: 65.4 | F9: 32.5 | G9: 32.5 | H9: 32.5 | I9: 0 | J9: 32.5 | K9: 35 | L9: 37.5 | M9: 35 | N9: 67.5 | O9: 72.5 | P9: 75 | Q9: 72.5 | AD9: =AC9+Y9+U9+Q9+M9+I9 -> 107.5 | AE9: 0.8 | AF9: =AD9*AE9 -> 86
A10: Sandy Falloon | B10: Columbia, MO | C10: M5 | D10: 70 | E10: 68.1 | F10: 30 | G10: 35 | H10: 40 | I10: 40 | J10: 25 | K10: 27.5 | L10: 30 | M10: 27.5 | N10: 70 | O10: 75 | P10: 80 | Q10: 80 | AD10: =AC10+Y10+U10+Q10+M10+I10 -> 147.5 | AE10: 0.7729 | AF10: =AD10*AE10 -> 114.00275
A11: Kimberly Lively | B11: Newburgh, IN | C11: M5 | D11: 80 | E11: 74.7 | F11: 32.5 | G11: 35 | H11: 42.5 | I11: 42.5 | J11: 32.5 | K11: 45 | L11: 45 | M11: 32.5 | N11: 100 | O11: 105 | P11: 110 | Q11: 105 | AD11: =AC11+Y11+U11+Q11+M11+I11 -> 180 | AE11: 0.7237 | AF11: =AD11*AE11 -> 130.266
A12: Anne Clark | B12: Columbia, MO | C12: M6 | D12: 63 | E12: 61.6 | F12: 30 | G12: 35 | H12: 35 | I12: 35 | J12: 32.5 | K12: 35 | L12: 37.5 | M12: 37.5 | N12: 75 | O12: 80 | P12: 82.5 | Q12: 82.5 | AD12: =AC12+Y12+U12+Q12+M12+I12 -> 155 | AE12: 0.8415 | AF12: =AD12*AE12 -> 130.4325
A13: Maggy Danley | B13: Columbia, MO | C13: M6 | D13: 90 | E13: 81.3 | F13: 25 | G13: 30 | H13: 35 | I13: 35 | J13: 40 | K13: 42.5 | L13: 45 | M13: 42.5 | N13: 60 | O13: 65 | P13: 72.5 | Q13: 72.5 | AD13: =AC13+Y13+U13+Q13+M13+I13 -> 150 | AE13: 0.6804 | AF13: =AD13*AE13 -> 102.06
A14: Frank Hansen | B14: Keokuk, IA | C14: M6 | D14: 110 | E14: 108.1 | F14: 0 | G14: 0 | H14: 0 | I14: 0 | J14: 0 | K14: 0 | L14: 0 | M14: 0 | N14: 120 | O14: 130 | P14: 140 | Q14: 130 | AD14: =AC14+Y14+U14+Q14+M14+I14 -> 130 | AE14: 0.5389 | AF14: =AD14*AE14 -> 70.057
A15: Judy Gedney | B15: Macomb, IL | C15: M7 | F15: 0 | G15: 0 | H15: 0 | I15: 0 | J15: 32.5 | K15: 37.5 | L15: 40 | M15: 40 | N15: 0 | O15: 0 | P15: 0 | Q15: 0 | AD15: =AC15+Y15+U15+Q15+M15+I15 -> 40 | AF15: =AD15*AE15 -> 0
A16: Jim Stovall | B16: Smithton, MO. | C16: M7 | D16: 90 | E16: 83.2 | F16: 137.5 | G16: 137.5 | H16: 152.5 | I16: 152.5 | J16: 87.5 | K16: 90 | L16: 92.5 | M16: 92.5 | N16: 175 | O16: 185 | P16: 190 | Q16: 185 | AD16: =AC16+Y16+U16+Q16+M16+I16 -> 430 | AE16: 0.6157 | AF16: =AD16*AE16 -> 264.751
A17: Glenn Wilkerson | B17: Houston, TX | C17: M7 | D17: 110 | E17: 109.2 | F17: 0 | G17: 0 | H17: 0 | I17: 0 | J17: 120 | K17: 120 | L17: 120 | M17: 120 | N17: 0 | O17: 0 | P17: 0 | Q17: 0 | AD17: =AC17+Y17+U17+Q17+M17+I17 -> 120 | AF17: =AD17*AE17 -> 0
A18: Justin Houston | B18: Macomb, IL | C18: Open | D18: 145 | E18: 131.7 | F18: 0 | G18: 0 | H18: 0 | I18: 0 | J18: 125 | K18: 145 | L18: 170 | M18: 145 | N18: 135 | O18: 155 | P18: 180 | Q18: 180 | AD18: =AC18+Y18+U18+Q18+M18+I18 -> 325 | AF18: =AD18*AE18 -> 0
A19: Tara Helenthal | B19: Hamilton, IL | C19: Open | D19: 70 | E19: 66.3 | F19: 70 | G19: 72.5 | H19: 75 | I19: 75 | J19: 42.5 | K19: 45 | L19: 47.5 | M19: 47.5 | N19: 90 | O19: 100 | P19: 107.5 | Q19: 107.5 | AD19: =AC19+Y19+U19+Q19+M19+I19 -> 230 | AE19: 0.7908 | AF19: =AD19*AE19 -> 181.884
A21: Female Best Lifter | F21: Bomb Out | L21: Male Best Lifter
A22: Pat Okker | B22: 202.419 | F22: Single/Double Event | L22: Wally Seibel | N22: 283.45
A23: Jeanne Kuckelman | B23: 188.765 | L23: Jim Stovall | N23: 264.751
A24: Tara Helenthal | B24: 181.884

Sheet Womens M1
A1: Lifter | B1: Hometown | C1: Weight | D1: Squat | H1: Bench | L1: Deadlift | P1: EQ Squat | T1: EQ Bench | X1: EQ Deadlift | AB1: Total | AC1: Coefficient | AD1: Adj. Total
D2: Lift 1 | E2: Lift 2 | F2: Lift 3 | G2: Best | H2: Lift 1 | I2: Lift 2 | J2: Lift 3 | K2: Best | L2: Lift 1 | M2: Lift 2 | N2: Lift 3 | O2: Best | P2: Lift 1 | Q2: Lift 2 | R2: Lift 3 | S2: Best | T2: Lift 1 | U2: Lift 2 | V2: Lift 3 | W2: Best | X2: Lift 1 | Y2: Lift 2 | Z2: Lift 3 | AA2: Best
A3: Shelly Frazier | D3: =Open!F3 -> 0 | E3: =Open!G3 -> 0 | F3: =Open!H3 -> 0 | G3: =Open!I3 -> 0 | H3: =Open!J3 -> 62.5 | I3: =Open!K3 -> 65 | J3: =Open!L3 -> 67.5 | K3: =Open!M3 -> 67.5 | ... AB3: =Open!AD3 -> 67.5 | AC3: =Open!AE8 -> 0.5669 | AD3: =AB3*AC3 -> 38.26575
AB4: =AA4+W4+S4+O4+K4+G4 -> 0 | AD4: =AB4*AC4 -> 0
AB5: =AA5+W5+S5+O5+K5+G5 -> 0 | AD5: =AB5*AC5 -> 0
AB6: =AA6+W6+S6+O6+K6+G6 -> 0 | AD6: =AB6*AC6 -> 0
AB7: =AA7+W7+S7+O7+K7+G7 -> 0 | AD7: =AB7*AC7 -> 0
AB8: =AA8+W8+S8+O8+K8+G8 -> 0 | AD8: =AB8*AC8 -> 0
AB9: =AA9+W9+S9+O9+K9+G9 -> 0 | AD9: =AB9*AC9 -> 0
AB10: =AA10+W10+S10+O10+K10+G10 -> 0 | AD10: =AB10*AC10 -> 0
AB11: =AA11+W11+S11+O11+K11+G11 -> 0 | AD11: =AB11*AC11 -> 0
AB12: =AA12+W12+S12+O12+K12+G12 -> 0 | AD12: =AB12*AC12 -> 0
AB13: =AA13+W13+S13+O13+K13+G13 -> 0 | AD13: =AB13*AC13 -> 0
AB14: =AA14+W14+S14+O14+K14+G14 -> 0 | AD14: =AB14*AC14 -> 0
AB15: =AA15+W15+S15+O15+K15+G15 -> 0 | AD15: =AB15*AC15 -> 0
... AB50: =AA50+W50+S50+O50+K50+G50 -> 0 | AD50: =AB50*AC50 -> 0

Sheet Womens M2
A1: Lifter | B1: Hometown | C1: Weight | D1: Squat | H1: Bench | L1: Deadlift | P1: EQ Squat | T1: EQ Bench | X1: EQ Deadlift | AB1: Total | AC1: Coefficient | AD1: Adj. Total
D2: Lift 1 | E2: Lift 2 | F2: Lift 3 | G2: Best | H2: Lift 1 | I2: Lift 2 | J2: Lift 3 | K2: Best | L2: Lift 1 | M2: Lift 2 | N2: Lift 3 | O2: Best | P2: Lift 1 | Q2: Lift 2 | R2: Lift 3 | S2: Best | T2: Lift 1 | U2: Lift 2 | V2: Lift 3 | W2: Best | X2: Lift 1 | Y2: Lift 2 | Z2: Lift 3 | AA2: Best
A3: Charla J. Wrenn | D3: =Open!F4 -> 25 | E3: =Open!G4 -> 30 | F3: =Open!H4 -> 35 | G3: =Open!I4 -> 35 | H3: =Open!J4 -> 50 | I3: =Open!K4 -> 55 | J3: =Open!L4 -> 57.5 | K3: =Open!M4 -> 57.5 | ... AB3: =Open!AD4 -> 182.5 | AC3: =Open!AE11 -> 0.7237 | AD3: =AB3*AC3 -> 132.07525
AB4: =AA4+W4+S4+O4+K4+G4 -> 0 | AD4: =AB4*AC4 -> 0
AB5: =AA5+W5+S5+O5+K5+G5 -> 0 | AD5: =AB5*AC5 -> 0
AB6: =AA6+W6+S6+O6+K6+G6 -> 0 | AD6: =AB6*AC6 -> 0
AB7: =AA7+W7+S7+O7+K7+G7 -> 0 | AD7: =AB7*AC7 -> 0
AB8: =AA8+W8+S8+O8+K8+G8 -> 0 | AD8: =AB8*AC8 -> 0
AB9: =AA9+W9+S9+O9+K9+G9 -> 0 | AD9: =AB9*AC9 -> 0
AB10: =AA10+W10+S10+O10+K10+G10 -> 0 | AD10: =AB10*AC10 -> 0
AB11: =AA11+W11+S11+O11+K11+G11 -> 0 | AD11: =AB11*AC11 -> 0
AB12: =AA12+W12+S12+O12+K12+G12 -> 0 | AD12: =AB12*AC12 -> 0
AB13: =AA13+W13+S13+O13+K13+G13 -> 0 | AD13: =AB13*AC13 -> 0
AB14: =AA14+W14+S14+O14+K14+G14 -> 0 | AD14: =AB14*AC14 -> 0
AB15: =AA15+W15+S15+O15+K15+G15 -> 0 | AD15: =AB15*AC15 -> 0
... AB50: =AA50+W50+S50+O50+K50+G50 -> 0 | AD50: =AB50*AC50 -> 0

Sheet Womens M3
A1: Lifter | B1: class | C1: Weight | D1: Squat | H1: Bench | L1: Deadlift | P1: EQ Squat | T1: EQ Bench | X1: EQ Deadlift | AB1: Total | AC1: Coefficient | AD1: Adj. Total
D2: Lift 1 | E2: Lift 2 | F2: Lift 3 | G2: Best | H2: Lift 1 | I2: Lift 2 | J2: Lift 3 | K2: Best | L2: Lift 1 | M2: Lift 2 | N2: Lift 3 | O2: Best | P2: Lift 1 | Q2: Lift 2 | R2: Lift 3 | S2: Best | T2: Lift 1 | U2: Lift 2 | V2: Lift 3 | W2: Best | X2: Lift 1 | Y2: Lift 2 | Z2: Lift 3 | AA2: Best
A3: Pat Okker | B3: 55.5 | C3: 55.5 | D3: =Open!F5 -> 65 | E3: =Open!G5 -> 70 | F3: =Open!H5 -> 73 | G3: =Open!I5 -> 73 | H3: =Open!J5 -> 50 | I3: =Open!K5 -> 52.5 | J3: =Open!L5 -> 55 | K3: =Open!M5 -> 52.5 | ... AB3: =Open!AD5 -> 220.5 | AC3: =Open!#REF! -> #REF! | AD3: =AB3*AC3 -> #REF!
A4: Jeanne Kuckelman | B4: 70 | C4: 65.9 | D4: =Open!F6 -> 62.5 | E4: =Open!G6 -> 65 | F4: =Open!H6 -> 67.5 | G4: =Open!I6 -> 67.5 | H4: =Open!J6 -> 55 | I4: =Open!K6 -> 57.5 | J4: =Open!L6 -> 60 | K4: =Open!M6 -> 60 | ... AB4: =Open!AD6 -> 237.5 | AD4: =AB4*AC4 -> 0
A5: Beth Van Hove | B5: 90+ | C5: 92.2 | D5: =Open!F7 -> 60 | E5: =Open!G7 -> 67.5 | F5: =Open!H7 -> 72.5 | G5: =Open!I7 -> 72.5 | H5: =Open!J7 -> 50 | I5: =Open!K7 -> 57.5 | J5: =Open!L7 -> 58.5 | K5: =Open!M7 -> 58.5 | ... AB5: =Open!AD7 -> 238.5 | AD5: =AB5*AC5 -> 0
AB6: =AA6+W6+S6+O6+K6+G6 -> 0 | AD6: =AB6*AC6 -> 0
AB7: =AA7+W7+S7+O7+K7+G7 -> 0 | AD7: =AB7*AC7 -> 0
AB8: =AA8+W8+S8+O8+K8+G8 -> 0 | AD8: =AB8*AC8 -> 0
AB9: =AA9+W9+S9+O9+K9+G9 -> 0 | AD9: =AB9*AC9 -> 0
AB10: =AA10+W10+S10+O10+K10+G10 -> 0 | AD10: =AB10*AC10 -> 0
AB11: =AA11+W11+S11+O11+K11+G11 -> 0 | AD11: =AB11*AC11 -> 0
AB12: =AA12+W12+S12+O12+K12+G12 -> 0 | AD12: =AB12*AC12 -> 0
AB13: =AA13+W13+S13+O13+K13+G13 -> 0 | AD13: =AB13*AC13 -> 0
AB14: =AA14+W14+S14+O14+K14+G14 -> 0 | AD14: =AB14*AC14 -> 0
AB15: =AA15+W15+S15+O15+K15+G15 -> 0 | AD15: =AB15*AC15 -> 0
AB16: =AA16+W16+S16+O16+K16+G16 -> 0 | AD16: =AB16*AC16 -> 0
AB17: =AA17+W17+S17+O17+K17+G17 -> 0 | AD17: =AB17*AC17 -> 0
... AB50: =AA50+W50+S50+O50+K50+G50 -> 0 | AD50: =AB50*AC50 -> 0

Sheet Womens M4
A1: Lifter | B1: Hometown | C1: Weight | D1: Squat | H1: Bench | L1: Deadlift | P1: EQ Squat | T1: EQ Bench | X1: EQ Deadlift | AB1: Total | AC1: Coefficient | AD1: Adj. Total
D2: Lift 1 | E2: Lift 2 | F2: Lift 3 | G2: Best | H2: Lift 1 | I2: Lift 2 | J2: Lift 3 | K2: Best | L2: Lift 1 | M2: Lift 2 | N2: Lift 3 | O2: Best | P2: Lift 1 | Q2: Lift 2 | R2: Lift 3 | S2: Best | T2: Lift 1 | U2: Lift 2 | V2: Lift 3 | W2: Best | X2: Lift 1 | Y2: Lift 2 | Z2: Lift 3 | AA2: Best
B3: =Open!#REF! -> #REF! | C3: =Open!#REF! -> #REF! | D3: =Open!#REF! -> #REF! | E3: =Open!#REF! -> #REF! | F3: =Open!#REF! -> #REF! | G3: =Open!#REF! -> #REF! | H3: =Open!#REF! -> #REF! | I3: =Open!#REF! -> #REF! | ... AA3: =Open!#REF! -> #REF! | AB3: =AA3+W3+S3+O3+K3+G3 -> #REF! | AC3: =Open!#REF! -> #REF! | AD3: =AB3*AC3 -> #REF!
AB4: =AA4+W4+S4+O4+K4+G4 -> 0 | AD4: =AB4*AC4 -> 0
AB5: =AA5+W5+S5+O5+K5+G5 -> 0 | AD5: =AB5*AC5 -> 0
AB6: =AA6+W6+S6+O6+K6+G6 -> 0 | AD6: =AB6*AC6 -> 0
AB7: =AA7+W7+S7+O7+K7+G7 -> 0 | AD7: =AB7*AC7 -> 0
AB8: =AA8+W8+S8+O8+K8+G8 -> 0 | AD8: =AB8*AC8 -> 0
AB9: =AA9+W9+S9+O9+K9+G9 -> 0 | AD9: =AB9*AC9 -> 0
AB10: =AA10+W10+S10+O10+K10+G10 -> 0 | AD10: =AB10*AC10 -> 0
AB11: =AA11+W11+S11+O11+K11+G11 -> 0 | AD11: =AB11*AC11 -> 0
AB12: =AA12+W12+S12+O12+K12+G12 -> 0 | AD12: =AB12*AC12 -> 0
AB13: =AA13+W13+S13+O13+K13+G13 -> 0 | AD13: =AB13*AC13 -> 0
AB14: =AA14+W14+S14+O14+K14+G14 -> 0 | AD14: =AB14*AC14 -> 0
AB15: =AA15+W15+S15+O15+K15+G15 -> 0 | AD15: =AB15*AC15 -> 0
... AB50: =AA50+W50+S50+O50+K50+G50 -> 0 | AD50: =AB50*AC50 -> 0

Sheet Womens M5
A1: Lifter | B1: Hometown | C1: Weight | D1: Squat | H1: Bench | L1: Deadlift | P1: EQ Squat | T1: EQ Bench | X1: EQ Deadlift | AB1: Total | AC1: Coefficient | AD1: Adj. Total
D2: Lift 1 | E2: Lift 2 | F2: Lift 3 | G2: Best | H2: Lift 1 | I2: Lift 2 | J2: Lift 3 | K2: Best | L2: Lift 1 | M2: Lift 2 | N2: Lift 3 | O2: Best | P2: Lift 1 | Q2: Lift 2 | R2: Lift 3 | S2: Best | T2: Lift 1 | U2: Lift 2 | V2: Lift 3 | W2: Best | X2: Lift 1 | Y2: Lift 2 | Z2: Lift 3 | AA2: Best
A3: Terry Douglass | B3: 70 | C3: 65.4 | D3: =Open!F9 -> 32.5 | E3: =Open!G9 -> 32.5 | F3: =Open!H9 -> 32.5 | G3: =Open!I9 -> 0 | H3: =Open!J9 -> 32.5 | I3: =Open!K9 -> 35 | J3: =Open!L9 -> 37.5 | K3: =Open!M9 -> 35 | ... AB3: =Open!AD9 -> 107.5 | AC3: =Open!AE4 -> 0.616 | AD3: =AB3*AC3 -> 66.22
A4: Sandy Falloon | B4: 70 | C4: 68.1 | D4: =Open!F10 -> 30 | E4: =Open!G10 -> 35 | F4: =Open!H10 -> 40 | G4: =Open!I10 -> 40 | H4: =Open!J10 -> 25 | I4: =Open!K10 -> 27.5 | J4: =Open!L10 -> 30 | K4: =Open!M10 -> 27.5 | ... AB4: =Open!AD10 -> 147.5 | AC4: =Open!AE6 -> 0.7948 | AD4: =AB4*AC4 -> 117.233
A5: Kimberly Lively | B5: 80 | C5: 74.7 | D5: =Open!F11 -> 32.5 | E5: =Open!G11 -> 35 | F5: =Open!H11 -> 42.5 | G5: =Open!I11 -> 42.5 | H5: =Open!J11 -> 32.5 | I5: =Open!K11 -> 45 | J5: =Open!L11 -> 45 | K5: =Open!M11 -> 32.5 | ... AB5: =Open!AD11 -> 180 | AC5: =Open!AE7 -> 0.6236 | AD5: =AB5*AC5 -> 112.248
AB6: =AA6+W6+S6+O6+K6+G6 -> 0 | AD6: =AB6*AC6 -> 0
AB7: =AA7+W7+S7+O7+K7+G7 -> 0 | AD7: =AB7*AC7 -> 0
AB8: =AA8+W8+S8+O8+K8+G8 -> 0 | AD8: =AB8*AC8 -> 0
AB9: =AA9+W9+S9+O9+K9+G9 -> 0 | AD9: =AB9*AC9 -> 0
AB10: =AA10+W10+S10+O10+K10+G10 -> 0 | AD10: =AB10*AC10 -> 0
AB11: =AA11+W11+S11+O11+K11+G11 -> 0 | AD11: =AB11*AC11 -> 0
AB12: =AA12+W12+S12+O12+K12+G12 -> 0 | AD12: =AB12*AC12 -> 0
AB13: =AA13+W13+S13+O13+K13+G13 -> 0 | AD13: =AB13*AC13 -> 0
AB14: =AA14+W14+S14+O14+K14+G14 -> 0 | AD14: =AB14*AC14 -> 0
AB15: =AA15+W15+S15+O15+K15+G15 -> 0 | AD15: =AB15*AC15 -> 0
AB16: =AA16+W16+S16+O16+K16+G16 -> 0 | AD16: =AB16*AC16 -> 0
AB17: =AA17+W17+S17+O17+K17+G17 -> 0 | AD17: =AB17*AC17 -> 0
... AB50: =AA50+W50+S50+O50+K50+G50 -> 0 | AD50: =AB50*AC50 -> 0

Sheet Womens M6
A1: Lifter | B1: Hometown | C1: Weight | D1: Squat | H1: Bench | L1: Deadlift | P1: EQ Squat | T1: EQ Bench | X1: EQ Deadlift | AB1: Total | AC1: Coefficient | AD1: Adj. Total
D2: Lift 1 | E2: Lift 2 | F2: Lift 3 | G2: Best | H2: Lift 1 | I2: Lift 2 | J2: Lift 3 | K2: Best | L2: Lift 1 | M2: Lift 2 | N2: Lift 3 | O2: Best | P2: Lift 1 | Q2: Lift 2 | R2: Lift 3 | S2: Best | T2: Lift 1 | U2: Lift 2 | V2: Lift 3 | W2: Best | X2: Lift 1 | Y2: Lift 2 | Z2: Lift 3 | AA2: Best
A3: Anne Clark | B3: 63 | C3: 61.6 | D3: =Open!F12 -> 30 | E3: =Open!G12 -> 35 | F3: =Open!H12 -> 35 | G3: =Open!I12 -> 35 | H3: =Open!J12 -> 32.5 | I3: =Open!K12 -> 35 | J3: =Open!L12 -> 37.5 | K3: =Open!M12 -> 37.5 | ... AB3: =Open!AD12 -> 155 | AC3: =Open!AE5 -> 0.918 | AD3: =AB3*AC3 -> 142.29
A4: Maggy Danley | B4: 90 | C4: 81.3 | D4: =Open!F13 -> 25 | E4: =Open!G13 -> 30 | F4: =Open!H13 -> 35 | G4: =Open!I13 -> 35 | H4: =Open!J13 -> 40 | I4: =Open!K13 -> 42.5 | J4: =Open!L13 -> 45 | K4: =Open!M13 -> 42.5 | ... AB4: =Open!AD13 -> 150 | AD4: =AB4*AC4 -> 0
AD5: =AB5*AC5 -> 0
AB6: =AA6+W6+S6+O6+K6+G6 -> 0 | AD6: =AB6*AC6 -> 0
AB7: =AA7+W7+S7+O7+K7+G7 -> 0 | AD7: =AB7*AC7 -> 0
AB8: =AA8+W8+S8+O8+K8+G8 -> 0 | AD8: =AB8*AC8 -> 0
AB9: =AA9+W9+S9+O9+K9+G9 -> 0 | AD9: =AB9*AC9 -> 0
AB10: =AA10+W10+S10+O10+K10+G10 -> 0 | AD10: =AB10*AC10 -> 0
AB11: =AA11+W11+S11+O11+K11+G11 -> 0 | AD11: =AB11*AC11 -> 0
AB12: =AA12+W12+S12+O12+K12+G12 -> 0 | AD12: =AB12*AC12 -> 0
AB13: =AA13+W13+S13+O13+K13+G13 -> 0 | AD13: =AB13*AC13 -> 0
AB14: =AA14+W14+S14+O14+K14+G14 -> 0 | AD14: =AB14*AC14 -> 0
AB15: =AA15+W15+S15+O15+K15+G15 -> 0 | AD15: =AB15*AC15 -> 0
AB16: =AA16+W16+S16+O16+K16+G16 -> 0 | AD16: =AB16*AC16 -> 0
AB17: =AA17+W17+S17+O17+K17+G17 -> 0 | AD17: =AB17*AC17 -> 0
... AB50: =AA50+W50+S50+O50+K50+G50 -> 0 | AD50: =AB50*AC50 -> 0

Sheet Women's M7
A1: Lifter | B1: Hometown | C1: Age Group | D1: Weight Class | E1: Weight | F1: Squat | J1: Bench | N1: Deadlift | R1: EQ Squat | V1: EQ Bench | Z1: EQ Deadlift | AD1: Total | AE1: Coefficient | AF1: Adj. Total
F2: Lift 1 | G2: Lift 2 | H2: Lift 3 | I2: Best | J2: Lift 1 | K2: Lift 2 | L2: Lift 3 | M2: Best | N2: Lift 1 | O2: Lift 2 | P2: Lift 3 | Q2: Best | R2: Lift 1 | S2: Lift 2 | T2: Lift 3 | U2: Best | V2: Lift 1 | W2: Lift 2 | X2: Lift 3 | Y2: Best | Z2: Lift 1 | AA2: Lift 2 | AB2: Lift 3 | AC2: Best
A3: Judy Gedney | F3: =Open!F15 -> 0 | G3: =Open!G15 -> 0 | H3: =Open!H15 -> 0 | I3: =Open!I15 -> 0 | J3: =Open!J15 -> 32.5 | K3: =Open!K15 -> 37.5 | L3: =Open!L15 -> 40 | M3: =Open!M15 -> 40 | ... AD3: =Open!AD15 -> 40 | AF3: =AD3*AE3 -> 0
AD4: =AC4+Y4+U4+Q4+M4+I4 -> 0 | AF4: =AD4*AE4 -> 0
AD5: =AC5+Y5+U5+Q5+M5+I5 -> 0 | AF5: =AD5*AE5 -> 0
AD6: =AC6+Y6+U6+Q6+M6+I6 -> 0 | AF6: =AD6*AE6 -> 0
AD7: =AC7+Y7+U7+Q7+M7+I7 -> 0 | AF7: =AD7*AE7 -> 0
AD8: =AC8+Y8+U8+Q8+M8+I8 -> 0 | AF8: =AD8*AE8 -> 0
AD9: =AC9+Y9+U9+Q9+M9+I9 -> 0 | AF9: =AD9*AE9 -> 0
AD10: =AC10+Y10+U10+Q10+M10+I10 -> 0 | AF10: =AD10*AE10 -> 0
AD11: =AC11+Y11+U11+Q11+M11+I11 -> 0 | AF11: =AD11*AE11 -> 0
AD12: =AC12+Y12+U12+Q12+M12+I12 -> 0 | AF12: =AD12*AE12 -> 0
AD13: =AC13+Y13+U13+Q13+M13+I13 -> 0 | AF13: =AD13*AE13 -> 0
AD14: =AC14+Y14+U14+Q14+M14+I14 -> 0 | AF14: =AD14*AE14 -> 0
AD15: =AC15+Y15+U15+Q15+M15+I15 -> 0 | AF15: =AD15*AE15 -> 0
... AD20: =AC20+Y20+U20+Q20+M20+I20 -> 0 | AF20: =AD20*AE20 -> 0

Sheet Womens Junior
A1: Lifter | B1: Hometown | C1: Weight | D1: Squat | H1: Bench | L1: Deadlift | P1: EQ Squat | T1: EQ Bench | X1: EQ Deadlift | AB1: Total | AC1: Coefficient | AD1: Adj. Total
D2: Lift 1 | E2: Lift 2 | F2: Lift 3 | G2: Best | H2: Lift 1 | I2: Lift 2 | J2: Lift 3 | K2: Best | L2: Lift 1 | M2: Lift 2 | N2: Lift 3 | O2: Best | P2: Lift 1 | Q2: Lift 2 | R2: Lift 3 | S2: Best | T2: Lift 1 | U2: Lift 2 | V2: Lift 3 | W2: Best | X2: Lift 1 | Y2: Lift 2 | Z2: Lift 3 | AA2: Best
B3: =Open!B9 -> Columbia, MO | C3: =Open!E9 -> 65.4 | D3: =Open!F9 -> 32.5 | E3: =Open!G9 -> 32.5 | F3: =Open!H9 -> 32.5 | G3: =Open!I9 -> 0 | H3: =Open!J9 -> 32.5 | I3: =Open!K9 -> 35 | J3: =Open!L9 -> 37.5 | ... AA3: =Open!AC9 -> 0 | AB3: =AA3+W3+S3+O3+K3+G3 -> 107.5 | AC3: =Open!AE9 -> 0.8 | AD3: =AB3*AC3 -> 86
AB4: =AA4+W4+S4+O4+K4+G4 -> 0 | AD4: =AB4*AC4 -> 0
AB5: =AA5+W5+S5+O5+K5+G5 -> 0 | AD5: =AB5*AC5 -> 0
AB6: =AA6+W6+S6+O6+K6+G6 -> 0 | AD6: =AB6*AC6 -> 0
AB7: =AA7+W7+S7+O7+K7+G7 -> 0 | AD7: =AB7*AC7 -> 0
AB8: =AA8+W8+S8+O8+K8+G8 -> 0 | AD8: =AB8*AC8 -> 0
AB9: =AA9+W9+S9+O9+K9+G9 -> 0 | AD9: =AB9*AC9 -> 0
AB10: =AA10+W10+S10+O10+K10+G10 -> 0 | AD10: =AB10*AC10 -> 0
AB11: =AA11+W11+S11+O11+K11+G11 -> 0 | AD11: =AB11*AC11 -> 0
AB12: =AA12+W12+S12+O12+K12+G12 -> 0 | AD12: =AB12*AC12 -> 0
AB13: =AA13+W13+S13+O13+K13+G13 -> 0 | AD13: =AB13*AC13 -> 0
AB14: =AA14+W14+S14+O14+K14+G14 -> 0 | AD14: =AB14*AC14 -> 0
AB15: =AA15+W15+S15+O15+K15+G15 -> 0 | AD15: =AB15*AC15 -> 0
... AB50: =AA50+W50+S50+O50+K50+G50 -> 0 | AD50: =AB50*AC50 -> 0

Sheet Men's M4
A1: Lifter | B1: Hometown | C1: Age Group | D1: Weight Class | E1: Weight | F1: Squat | J1: Bench | N1: Deadlift | R1: EQ Squat | V1: EQ Bench | Z1: EQ Deadlift | AD1: Total | AE1: Coefficient | AF1: Adj. Total
F2: Lift 1 | G2: Lift 2 | H2: Lift 3 | I2: Best | J2: Lift 1 | K2: Lift 2 | L2: Lift 3 | M2: Best | N2: Lift 1 | O2: Lift 2 | P2: Lift 3 | Q2: Best | R2: Lift 1 | S2: Lift 2 | T2: Lift 3 | U2: Best | V2: Lift 1 | W2: Lift 2 | X2: Lift 3 | Y2: Best | Z2: Lift 1 | AA2: Lift 2 | AB2: Lift 3 | AC2: Best
A3: Wally Seibel | C3: M4 | D3: 100 | E3: 95.3 | F3: =Open!F8 -> 155 | G3: =Open!G8 -> 180 | H3: =Open!H8 -> 192.5 | I3: =Open!I8 -> 192.5 | J3: =Open!J8 -> 105 | K3: =Open!K8 -> 112.5 | L3: =Open!L8 -> 117.5 | M3: =Open!M8 -> 117.5 | ... AD3: =Open!AD8 -> 500 | AF3: =AD3*AE3 -> 0
AD4: =AC4+Y4+U4+Q4+M4+I4 -> 0 | AF4: =AD4*AE4 -> 0
AD5: =AC5+Y5+U5+Q5+M5+I5 -> 0 | AF5: =AD5*AE5 -> 0
AD6: =AC6+Y6+U6+Q6+M6+I6 -> 0 | AF6: =AD6*AE6 -> 0
AD7: =AC7+Y7+U7+Q7+M7+I7 -> 0 | AF7: =AD7*AE7 -> 0
AD8: =AC8+Y8+U8+Q8+M8+I8 -> 0 | AF8: =AD8*AE8 -> 0
AD9: =AC9+Y9+U9+Q9+M9+I9 -> 0 | AF9: =AD9*AE9 -> 0
AD10: =AC10+Y10+U10+Q10+M10+I10 -> 0 | AF10: =AD10*AE10 -> 0
AD11: =AC11+Y11+U11+Q11+M11+I11 -> 0 | AF11: =AD11*AE11 -> 0
AD12: =AC12+Y12+U12+Q12+M12+I12 -> 0 | AF12: =AD12*AE12 -> 0
AD13: =AC13+Y13+U13+Q13+M13+I13 -> 0 | AF13: =AD13*AE13 -> 0
AD14: =AC14+Y14+U14+Q14+M14+I14 -> 0 | AF14: =AD14*AE14 -> 0
AD15: =AC15+Y15+U15+Q15+M15+I15 -> 0 | AF15: =AD15*AE15 -> 0
... AD20: =AC20+Y20+U20+Q20+M20+I20 -> 0 | AF20: =AD20*AE20 -> 0

Sheet Mens M6
A1: Lifter | B1: Hometown | C1: Weight | D1: Squat | H1: Bench | L1: Deadlift | P1: EQ Squat | T1: EQ Bench | X1: EQ Deadlift | AB1: Total | AC1: Coefficient | AD1: Adj. Total
D2: Lift 1 | E2: Lift 2 | F2: Lift 3 | G2: Best | H2: Lift 1 | I2: Lift 2 | J2: Lift 3 | K2: Best | L2: Lift 1 | M2: Lift 2 | N2: Lift 3 | O2: Best | P2: Lift 1 | Q2: Lift 2 | R2: Lift 3 | S2: Best | T2: Lift 1 | U2: Lift 2 | V2: Lift 3 | W2: Best | X2: Lift 1 | Y2: Lift 2 | Z2: Lift 3 | AA2: Best
A3: Frank Hansen | C3: 108.1 | D3: =Open!F14 -> 0 | E3: =Open!G14 -> 0 | F3: =Open!H14 -> 0 | G3: =Open!I14 -> 0 | H3: =Open!J14 -> 0 | I3: =Open!K14 -> 0 | J3: =Open!L14 -> 0 | K3: =Open!M14 -> 0 | ... AB3: =Open!AD14 -> 130 | AC3: =Open!#REF! -> #REF! | AD3: =AB3*AC3 -> #REF!
AB4: =AA4+W4+S4+O4+K4+G4 -> 0 | AD4: =AB4*AC4 -> 0
AB5: =AA5+W5+S5+O5+K5+G5 -> 0 | AD5: =AB5*AC5 -> 0
AB6: =AA6+W6+S6+O6+K6+G6 -> 0 | AD6: =AB6*AC6 -> 0
AB7: =AA7+W7+S7+O7+K7+G7 -> 0 | AD7: =AB7*AC7 -> 0
AB8: =AA8+W8+S8+O8+K8+G8 -> 0 | AD8: =AB8*AC8 -> 0
AB9: =AA9+W9+S9+O9+K9+G9 -> 0 | AD9: =AB9*AC9 -> 0
AB10: =AA10+W10+S10+O10+K10+G10 -> 0 | AD10: =AB10*AC10 -> 0
AB11: =AA11+W11+S11+O11+K11+G11 -> 0 | AD11: =AB11*AC11 -> 0
AB12: =AA12+W12+S12+O12+K12+G12 -> 0 | AD12: =AB12*AC12 -> 0
AB13: =AA13+W13+S13+O13+K13+G13 -> 0 | AD13: =AB13*AC13 -> 0
AB14: =AA14+W14+S14+O14+K14+G14 -> 0 | AD14: =AB14*AC14 -> 0
AB15: =AA15+W15+S15+O15+K15+G15 -> 0 | AD15: =AB15*AC15 -> 0
... AB50: =AA50+W50+S50+O50+K50+G50 -> 0 | AD50: =AB50*AC50 -> 0

Sheet Mens M7
A1: Lifter | B1: Hometown | C1: Age Group | D1: Weight Class | E1: Weight | F1: Squat | J1: Bench | N1: Deadlift | R1: EQ Squat | V1: EQ Bench | Z1: EQ Deadlift | AD1: Total | AE1: Coefficient | AF1: Adj. Total
F2: Lift 1 | G2: Lift 2 | H2: Lift 3 | I2: Best | J2: Lift 1 | K2: Lift 2 | L2: Lift 3 | M2: Best | N2: Lift 1 | O2: Lift 2 | P2: Lift 3 | Q2: Best | R2: Lift 1 | S2: Lift 2 | T2: Lift 3 | U2: Best | V2: Lift 1 | W2: Lift 2 | X2: Lift 3 | Y2: Best | Z2: Lift 1 | AA2: Lift 2 | AB2: Lift 3 | AC2: Best
A3: Jim Stovall | C3: M7 | D3: 90 | E3: 83.2 | F3: =Open!F16 -> 137.5 | G3: =Open!G16 -> 137.5 | H3: =Open!H16 -> 152.5 | I3: =Open!I16 -> 152.5 | J3: =Open!J16 -> 87.5 | K3: =Open!K16 -> 90 | L3: =Open!L16 -> 92.5 | M3: =Open!M16 -> 92.5 | ... AD3: =Open!AD16 -> 430 | AF3: =AD3*AE3 -> 0
A4: Glenn Wilkerson | C4: M7 | D4: 110 | E4: 109.2 | F4: =Open!F17 -> 0 | G4: =Open!G17 -> 0 | H4: =Open!H17 -> 0 | I4: =Open!I17 -> 0 | J4: =Open!J17 -> 120 | K4: =Open!K17 -> 120 | L4: =Open!L17 -> 120 | M4: =Open!M17 -> 120 | ... AD4: =Open!AD17 -> 120 | AF4: =AD4*AE4 -> 0
AD5: =AC5+Y5+U5+Q5+M5+I5 -> 0 | AF5: =AD5*AE5 -> 0
AD6: =AC6+Y6+U6+Q6+M6+I6 -> 0 | AF6: =AD6*AE6 -> 0
AD7: =AC7+Y7+U7+Q7+M7+I7 -> 0 | AF7: =AD7*AE7 -> 0
AD8: =AC8+Y8+U8+Q8+M8+I8 -> 0 | AF8: =AD8*AE8 -> 0
AD9: =AC9+Y9+U9+Q9+M9+I9 -> 0 | AF9: =AD9*AE9 -> 0
AD10: =AC10+Y10+U10+Q10+M10+I10 -> 0 | AF10: =AD10*AE10 -> 0
AD11: =AC11+Y11+U11+Q11+M11+I11 -> 0 | AF11: =AD11*AE11 -> 0
AD12: =AC12+Y12+U12+Q12+M12+I12 -> 0 | AF12: =AD12*AE12 -> 0
AD13: =AC13+Y13+U13+Q13+M13+I13 -> 0 | AF13: =AD13*AE13 -> 0
AD14: =AC14+Y14+U14+Q14+M14+I14 -> 0 | AF14: =AD14*AE14 -> 0
AD15: =AC15+Y15+U15+Q15+M15+I15 -> 0 | AF15: =AD15*AE15 -> 0
AD16: =AC16+Y16+U16+Q16+M16+I16 -> 0 | AF16: =AD16*AE16 -> 0
... AD20: =AC20+Y20+U20+Q20+M20+I20 -> 0 | AF20: =AD20*AE20 -> 0

Sheet Mens T3
A1: Lifter | B1: Hometown | C1: Weight | D1: Squat | H1: Bench | L1: Deadlift | P1: EQ Squat | T1: EQ Bench | X1: EQ Deadlift | AB1: Total | AC1: Coefficient | AD1: Adj. Total
D2: Lift 1 | E2: Lift 2 | F2: Lift 3 | G2: Best | H2: Lift 1 | I2: Lift 2 | J2: Lift 3 | K2: Best | L2: Lift 1 | M2: Lift 2 | N2: Lift 3 | O2: Best | P2: Lift 1 | Q2: Lift 2 | R2: Lift 3 | S2: Best | T2: Lift 1 | U2: Lift 2 | V2: Lift 3 | W2: Best | X2: Lift 1 | Y2: Lift 2 | Z2: Lift 3 | AA2: Best
B3: =Open!#REF! -> #REF! | C3: =Open!#REF! -> #REF! | D3: =Open!#REF! -> #REF! | E3: =Open!#REF! -> #REF! | F3: =Open!#REF! -> #REF! | G3: =Open!#REF! -> #REF! | H3: =Open!#REF! -> #REF! | I3: =Open!#REF! -> #REF! | ... AA3: =Open!#REF! -> #REF! | AB3: =AA3+W3+S3+O3+K3+G3 -> #REF! | AC3: =Open!#REF! -> #REF! | AD3: =AB3*AC3 -> #REF!
B4: =Open!#REF! -> #REF! | C4: =Open!#REF! -> #REF! | D4: =Open!#REF! -> #REF! | E4: =Open!#REF! -> #REF! | F4: =Open!#REF! -> #REF! | G4: =Open!#REF! -> #REF! | H4: =Open!#REF! -> #REF! | I4: =Open!#REF! -> #REF! | ... AA4: =Open!#REF! -> #REF! | AB4: =AA4+W4+S4+O4+K4+G4 -> #REF! | AC4: =Open!#REF! -> #REF! | AD4: =AB4*AC4 -> #REF!
AB5: =AA5+W5+S5+O5+K5+G5 -> 0 | AD5: =AB5*AC5 -> 0
AB6: =AA6+W6+S6+O6+K6+G6 -> 0 | AD6: =AB6*AC6 -> 0
AB7: =AA7+W7+S7+O7+K7+G7 -> 0 | AD7: =AB7*AC7 -> 0
AB8: =AA8+W8+S8+O8+K8+G8 -> 0 | AD8: =AB8*AC8 -> 0
AB9: =AA9+W9+S9+O9+K9+G9 -> 0 | AD9: =AB9*AC9 -> 0
AB10: =AA10+W10+S10+O10+K10+G10 -> 0 | AD10: =AB10*AC10 -> 0
AB11: =AA11+W11+S11+O11+K11+G11 -> 0 | AD11: =AB11*AC11 -> 0
AB12: =AA12+W12+S12+O12+K12+G12 -> 0 | AD12: =AB12*AC12 -> 0
AB13: =AA13+W13+S13+O13+K13+G13 -> 0 | AD13: =AB13*AC13 -> 0
AB14: =AA14+W14+S14+O14+K14+G14 -> 0 | AD14: =AB14*AC14 -> 0
AB15: =AA15+W15+S15+O15+K15+G15 -> 0 | AD15: =AB15*AC15 -> 0
AB16: =AA16+W16+S16+O16+K16+G16 -> 0 | AD16: =AB16*AC16 -> 0
... AB50: =AA50+W50+S50+O50+K50+G50 -> 0 | AD50: =AB50*AC50 -> 0

Sheet Mens Junior
A1: Lifter | B1: Hometown | C1: Weight | D1: Squat | H1: Bench | L1: Deadlift | P1: EQ Squat | T1: EQ Bench | X1: EQ Deadlift | AB1: Total | AC1: Coefficient | AD1: Adj. Total
D2: Lift 1 | E2: Lift 2 | F2: Lift 3 | G2: Best | H2: Lift 1 | I2: Lift 2 | J2: Lift 3 | K2: Best | L2: Lift 1 | M2: Lift 2 | N2: Lift 3 | O2: Best | P2: Lift 1 | Q2: Lift 2 | R2: Lift 3 | S2: Best | T2: Lift 1 | U2: Lift 2 | V2: Lift 3 | W2: Best | X2: Lift 1 | Y2: Lift 2 | Z2: Lift 3 | AA2: Best
B3: =Open!#REF! -> #REF! | C3: =Open!#REF! -> #REF! | D3: =Open!#REF! -> #REF! | E3: =Open!#REF! -> #REF! | F3: =Open!#REF! -> #REF! | G3: =Open!#REF! -> #REF! | H3: =Open!#REF! -> #REF! | I3: =Open!#REF! -> #REF! | ... AA3: =Open!#REF! -> #REF! | AB3: =AA3+W3+S3+O3+K3+G3 -> #REF! | AC3: =Open!#REF! -> #REF! | AD3: =AB3*AC3 -> #REF!
B4: =Open!#REF! -> #REF! | C4: =Open!#REF! -> #REF! | D4: =Open!#REF! -> #REF! | E4: =Open!#REF! -> #REF! | F4: =Open!#REF! -> #REF! | G4: =Open!#REF! -> #REF! | H4: =Open!#REF! -> #REF! | I4: =Open!#REF! -> #REF! | ... AA4: =Open!#REF! -> #REF! | AB4: =AA4+W4+S4+O4+K4+G4 -> #REF! | AC4: =Open!#REF! -> #REF! | AD4: =AB4*AC4 -> #REF!
AB5: =AA5+W5+S5+O5+K5+G5 -> 0 | AD5: =AB5*AC5 -> 0
AB6: =AA6+W6+S6+O6+K6+G6 -> 0 | AD6: =AB6*AC6 -> 0
AB7: =AA7+W7+S7+O7+K7+G7 -> 0 | AD7: =AB7*AC7 -> 0
AB8: =AA8+W8+S8+O8+K8+G8 -> 0 | AD8: =AB8*AC8 -> 0
AB9: =AA9+W9+S9+O9+K9+G9 -> 0 | AD9: =AB9*AC9 -> 0
AB10: =AA10+W10+S10+O10+K10+G10 -> 0 | AD10: =AB10*AC10 -> 0
AB11: =AA11+W11+S11+O11+K11+G11 -> 0 | AD11: =AB11*AC11 -> 0
AB12: =AA12+W12+S12+O12+K12+G12 -> 0 | AD12: =AB12*AC12 -> 0
AB13: =AA13+W13+S13+O13+K13+G13 -> 0 | AD13: =AB13*AC13 -> 0
AB14: =AA14+W14+S14+O14+K14+G14 -> 0 | AD14: =AB14*AC14 -> 0
AB15: =AA15+W15+S15+O15+K15+G15 -> 0 | AD15: =AB15*AC15 -> 0
AB16: =AA16+W16+S16+O16+K16+G16 -> 0 | AD16: =AB16*AC16 -> 0
... AB50: =AA50+W50+S50+O50+K50+G50 -> 0 | AD50: =AB50*AC50 -> 0

Sheet Sheet4
