Workbook

Sheet Full Lifter List
A1: Name | B1: Age/Weight/Class | C1: Weight Class | D1: UE Bench | E1: UE Deadlift | F1: EQ Bench | G1: EQ Deadlift | H1: Paid | I1: City
A2: Jordan Richie | B2: JR | C2: 145 | D2: ='Full Results'!O13 -> 0 | G2: ='Full Results'!S13 -> 0 | H2: x | I2: Quincy, IL
A3: Brent Wrenn | B3: JR | C3: 56 | D3: ='Full Results'!G14 -> 57.5 | H3: x | I3: Good Hope, IL
A4: Cody Brant | B4: JR | C4: 145+ | F4: ='Full Results'!O26 -> 0 | G4: ='Full Results'!S26 -> 0 | H4: x | I4: Macomb, IL
A5: Charla Wrenn | B5: M1 | C5: 90 | D5: ='Full Results'!G16 -> 80 | E5: ='Full Results'!K16 -> 137.5 | H5: x | I5: Good Hope, IL
A6: Pat Okker | B6: M3 | C6: 58.5 | D6: ='Full Results'!G10 -> 72.5 | E6: ='Full Results'!K10 -> 100 | H6: x | I6: Columbia, MO
A7: Alice (Kim) Morgan | B7: M4 | C7: 58.5 | D7: ='Full Results'!G9 -> 92.5 | E7: ='Full Results'!K9 -> 150 | H7: x | I7: Columbia, MO
A8: Linda LaFontaine | B8: M5 | C8: 55.5 | D8: ='Full Results'!G18 -> 0 | E8: ='Full Results'!K18 -> 150 | H8: x | I8: Columbia, MO
A9: Lynn Miller | B9: M5 | C9: 75 | D9: ='Full Results'!G20 -> 37.5 | E9: ='Full Results'!K20 -> 70 | H9: x | I9: Columbia, MO
A10: Jaqueline Miller | B10: M5 | C10: 50.5 | D10: ='Full Results'!G21 -> 195 | E10: ='Full Results'!K21 -> 0 | H10: x | I10: Columbia, MO
A11: Kenneth Maurer | B11: M6 | C11: 90 | D11: ='Full Results'!G6 -> 0 | E11: ='Full Results'!K6 -> 0 | H11: x | I11: Columbia, MO
A12: Thom LaFontaine | B12: M6 | C12: 67.5 | E12: ='Full Results'!K19 -> 65 | H12: x | I12: Columbia, MO
A13: Justin Huston | B13: Open | C13: 145+ | D13: ='Full Results'!G3 -> 0 | E13: ='Full Results'!K3 -> 307.5 | H13: x | I13: Macomb, IL
A14: Chris Forestier | B14: Open | C14: 145+ | D14: ='Full Results'!G5 -> 140 | H14: x | I14: Canton, IL
A15: Jon Myres | B15: Open | C15: 85 | D15: ='Full Results'!G7 -> 160 | H15: x | I15: Macomb, IL
A16: Paul Esters | B16: Open | C16: 110 | D16: ='Full Results'!G11 -> 0 | E16: ='Full Results'!K11 -> 0 | H16: x | I16: Macomb, IL
A17: Vic Patterson | B17: Open/M2 | C17: 145+ | H17: x
A18: Markane Caldwell | B18: Open | C18: 110 | E18: ='Full Results'!K23 -> 0 | H18: x | I18: Hammond, IN
A19: Ed Riley | B19: Open | E19: ='Full Results'!K24 -> 0 | G19: ='Full Results'!S24 -> 0 | H19: x | I19: Chicago, IL
A20: Jason Beal | B20: Open | C20: 110 | F20: ='Full Results'!O25 -> 0 | G20: ='Full Results'!S25 -> 0 | H20: x | I20: Quincy, IL
A21: Michelle Engebertson | B21: Open | C21: 80 | D21: ='Full Results'!G28 -> 0 | E21: ='Full Results'!K28 -> 0 | H21: x | I21: Columbia, MO
A22: Shellaine Frazier | B22: Open/M1 | C22: 55.5 | D22: ='Full Results'!G8 -> 107.5 | E22: ='Full Results'!K8 -> 160 | H22: x | I22: Columbia, MO
A23: Dave Beversdorf | B23: Open/M2 | C23: 145+ | F23: ='Full Results'!O17 -> 252.5 | H23: x | I23: Rocheport, MO
A24: Brian Jenkins | B24: T2 | C24: 75 | D24: ='Full Results'!G12 -> 67.5 | H24: x | I24: Macomb, IL
A25: Nick Russell | B25: T2 | C25: 82.5 | D25: ='Full Results'!G15 -> 50 | E25: ='Full Results'!K15 -> 97.5 | H25: x | I25: Macomb, IL
A26: Sergio Vences | B26: T2 | C26: 52 | D26: ='Full Results'!G27 -> 60 | H26: x | I26: Chicago, IL
A27: Kyle Livingston | B27: T3 | C27: 90 | D27: ='Full Results'!G4 -> 0 | H27: x | I27: Macomb, IL

Sheet Full Results
D1: Uneqipped Bench Press | H1: Unequipped Deadlift | L1: Equipped Bench Press | P1: Equipped Deadlift
A2: Name | B2: Age | C2: Weight | D2: Lift 1 | E2: Lift 2 | F2: Lift 3 | G2: Best | H2: Lift 1 | I2: Lift 2 | J2: Lift 3 | K2: Best | L2: Lift 1 | M2: Lift 2 | N2: Lift 3 | O2: Best | P2: Lift 1 | Q2: Lift 2 | R2: Lift 3 | S2: Best | T2: Total | U2: Coefficient | V2: Adj Total
A3: Ed Riley | H3: 295 | I3: 307.5 | J3: pass | K3: 307.5 | P3: 272.5 | Q3: 300 | R3: 300 | S3: 272.5 | T3: =G3+K3+O3+S3 -> 580 | U3: 0.5315 | V3: =T3*U3 -> 308.27
A4: Jason Beal | B4: O | C4: 110 | L4: 167.5 | M4: 177.5 | N4: 182.5 | O4: 182.5 | P4: 257.5 | Q4: 267.5 | R4: 272.5 | S4: 267.5 | T4: =G4+K4+O4+S4 -> 450 | U4: 0.5417 | V4: =T4*U4 -> 243.765
A5: Paul Esters | B5: O | C5: 110 | D5: 140 | E5: 145 | F5: 145 | G5: 140 | H5: 235 | I5: 240 | J5: 250 | K5: 250 | T5: =G5+K5+O5+S5 -> 390 | U5: 0.5429 | V5: =T5*U5 -> 211.731
A6: Jordan Richie | B6: JR | C6: 145 | L6: 115 | M6: 120 | N6: 125 | O6: 125 | P6: 250 | Q6: 262.5 | R6: 275 | S6: 262.5 | T6: =G6+K6+O6+S6 -> 387.5 | U6: 0.5147 | V6: =T6*U6 -> 199.44625
A7: Justin Huston | B7: O | C7: SHW | D7: 140 | E7: 160 | F7: 180 | G7: 160 | H7: 160 | I7: 180 | J7: 200 | K7: 200 | T7: =G7+K7+O7+S7 -> 360 | U7: 0.4952 | V7: =T7*U7 -> 178.272
A8: Nick Russell | B8: T2 | C8: 82.5 | D8: 92.5 | E8: 100 | F8: 107.5 | G8: 107.5 | H8: 100 | I8: 130 | J8: 160 | K8: 160 | T8: =G8+K8+O8+S8 -> 267.5 | U8: 0.6467 | V8: =T8*U8 -> 172.99225
A9: Lynn Miller | B9: M5 | C9: 75 | D9: 90 | E9: 92.5 | F9: 92.5 | G9: 92.5 | H9: 140 | I9: 147.5 | J9: 150 | K9: 150 | T9: =G9+K9+O9+S9 -> 242.5 | U9: 0.6701 | V9: =T9*U9 -> 162.49925
A10: Shellaine Frazier | B10: M1 | C10: 55.5 | D10: 70 | E10: 71 | F10: 72.5 | G10: 72.5 | H10: 90 | I10: 100 | J10: 100 | K10: 100 | T10: =G10+K10+O10+S10 -> 172.5 | U10: 0.9247 | V10: =T10*U10 -> 159.51075
A11: Cody Brant | B11: Jr | C11: SHW | L11: 265 | M11: 275 | N11: 280 | P11: 280 | Q11: 295 | R11: 320 | S11: 320 | T11: =G11+K11+O11+S11 -> 320 | U11: 0.4946 | V11: =T11*U11 -> 158.272
A12: Michelle Engebertson | B12: O | C12: 80 | D12: 62.5 | E12: 67.5 | F12: 77.5 | G12: 67.5 | H12: 135 | I12: 145 | J12: 150 | K12: 150 | T12: =G12+K12+O12+S12 -> 217.5 | U12: 0.6486 | V12: =T12*U12 -> 141.0705
A13: Markane Caldwell | B13: O | C13: 110 | H13: 160 | I13: 215 | J13: 240 | K13: 240 | T13: =G13+K13+O13+S13 -> 240 | U13: 0.5694 | V13: =T13*U13 -> 136.656
A14: Alice (Kim) Morgan | B14: M4 | C14: 58.5 | D14: 52.5 | E14: 55 | F14: 57.5 | G14: 57.5 | H14: 87.5 | I14: 92.5 | J14: 95 | K14: 95 | T14: =G14+K14+O14+S14 -> 152.5 | U14: 0.8468 | V14: =T14*U14 -> 129.137
A15: Pat Okker | B15: M3 | C15: 58.5 | D15: 47.5 | E15: 50 | F15: 52.5 | G15: 50 | H15: 87.5 | I15: 92.5 | J15: 97.5 | K15: 97.5 | T15: =G15+K15+O15+S15 -> 147.5 | U15: 0.8748 | V15: =T15*U15 -> 129.033
A16: Kenneth Maurer | B16: M6 | C16: 90 | D16: 75 | E16: 80 | F16: 80 | G16: 80 | H16: 110 | I16: 125 | J16: 137.5 | K16: 137.5 | T16: =G16+K16+O16+S16 -> 217.5 | U16: 0.5869 | V16: =T16*U16 -> 127.65075
A17: Dave Beversdorf | B17: M2 | C17: SHW | L17: 252.5 | M17: 277.5 | N17: pass | O17: 252.5 | T17: =G17+K17+O17+S17 -> 252.5 | U17: 0.5038 | V17: =T17*U17 -> 127.2095
A18: Thom LaFontaine | B18: M6 | C18: 67.5 | H18: 140 | I18: 150 | J18: 152.5 | K18: 150 | T18: =G18+K18+O18+S18 -> 150 | U18: 0.7327 | V18: =T18*U18 -> 109.905
A19: Jaqueline Miller | B19: m5 | C19: 50.5 | D19: 32.5 | E19: 35 | F19: 37.5 | G19: 35 | H19: 60 | I19: 65 | J19: 70 | K19: 65 | T19: =G19+K19+O19+S19 -> 100 | U19: 1.0062 | V19: =T19*U19 -> 100.62
A20: Linda LaFontaine | B20: M5 | C20: 55.5 | D20: 35 | E20: 37.5 | F20: 40 | G20: 37.5 | H20: 60 | I20: 70 | J20: 72.5 | K20: 70 | T20: =G20+K20+O20+S20 -> 107.5 | U20: 0.9092 | V20: =T20*U20 -> 97.739
A21: Chris Forestier | B21: O | C21: SHW | D21: 185 | E21: 195 | F21: 200 | G21: 195 | T21: =G21+K21+O21+S21 -> 195 | U21: 0.498 | V21: =T21*U21 -> 97.11
A22: Charla Wrenn | B22: M1 | C22: 90 | D22: 42.5 | E22: 47.5 | F22: 52.5 | G22: 47.5 | H22: 65 | I22: 75 | J22: 85 | K22: 85 | T22: =G22+K22+O22+S22 -> 132.5 | U22: 0.6107 | V22: =T22*U22 -> 80.91775
A23: Sergio Vences | B23: T2 | C23: 52 | D23: 70 | E23: 77.5 | F23: 77.5 | G23: 77.5 | T23: =G23+K23+O23+S23 -> 77.5 | U23: 0.913 | V23: =T23*U23 -> 70.7575
A24: Brian Jenkins | B24: T2 | C24: 75 | D24: 100 | E24: 105 | F24: 107.5 | G24: 105 | T24: =G24+K24+O24+S24 -> 105 | U24: 0.6723 | V24: =T24*U24 -> 70.5915
A25: Jon Myres | B25: O | C25: 85 | D25: 115 | E25: 115 | F25: 125 | G25: 115 | T25: =G25+K25+O25+S25 -> 115 | U25: 0.6122 | V25: =T25*U25 -> 70.403
A26: Kyle Livingston | B26: T3 | C26: 90 | D26: 110 | E26: 115 | F26: 117.5 | G26: 117.5 | T26: =G26+K26+O26+S26 -> 117.5 | U26: 0.5857 | V26: =T26*U26 -> 68.81975
A27: Brent Wrenn | B27: Jr | C27: 56 | D27: 50 | E27: 55 | F27: 60 | G27: 60 | T27: =G27+K27+O27+S27 -> 60 | U27: 0.8437 | V27: =T27*U27 -> 50.622
A28: Vic Patterson | B28: M2 | C28: SHW | D28: 195 | T28: =G28+K28+O28+S28 -> 0 | U28: 0.46586 | V28: =T28*U28 -> 0
T29: =G29+K29+O29+S29 -> 0 | V29: =T29*U29 -> 0
T30: =G30+K30+O30+S30 -> 0 | V30: =T30*U30 -> 0
T31: =G31+K31+O31+S31 -> 0 | V31: =T31*U31 -> 0
T32: =G32+K32+O32+S32 -> 0 | V32: =T32*U32 -> 0
T33: =G33+K33+O33+S33 -> 0 | V33: =T33*U33 -> 0
T34: =G34+K34+O34+S34 -> 0 | V34: =T34*U34 -> 0
T35: =G35+K35+O35+S35 -> 0 | V35: =T35*U35 -> 0

Sheet Junior
A1: Name | B1: Adj Total
A2: Jordan Richie | B2: ='Full Results'!V13 -> 136.656
A3: Brent Wrenn | B3: ='Full Results'!V14 -> 129.137
A4: Cody Brant | B4: ='Full Results'!V26 -> 68.81975

Sheet Master
A1: Name | B1: SubCat | C1: Adj Total
A2: Charla Wrenn | B2: 1 | C2: ='Full Results'!V16 -> 127.65075
A3: Shellaine Frazier | B3: 1 | C3: ='Full Results'!V8 -> 172.99225
A4: Dave Beversdorf | B4: 2 | C4: ='Full Results'!V17 -> 127.2095
A5: Vic Patterson | B5: 2 | C5: ='Full Results'!V22 -> 80.91775
A6: Pat Okker | B6: 3 | C6: ='Full Results'!V10 -> 159.51075
A7: Alice (Kim) Morgan | B7: 4 | C7: ='Full Results'!V9 -> 162.49925
A8: Linda LaFontaine | B8: 5 | C8: ='Full Results'!V18 -> 109.905
A9: Lynn Miller | B9: 5 | C9: ='Full Results'!V20 -> 97.739
A10: Jaqueline Miller | B10: 5 | C10: ='Full Results'!V21 -> 97.11
A11: Kenneth Maurer | B11: 6 | C11: ='Full Results'!V6 -> 199.44625
A12: Thom LaFontaine | B12: 6 | C12: ='Full Results'!V19 -> 100.62

Sheet Open
A1: Name | B1: Adj Total
A2: Ed Riley | B2: ='Full Results'!V24 -> 70.5915
A3: Jason Beal | B3: ='Full Results'!V25 -> 70.403
A4: Paul Esters | B4: ='Full Results'!V11 -> 158.272
A5: Justin Huston | B5: ='Full Results'!V3 -> 308.27
A6: Shellaine Frazier | B6: ='Full Results'!V8 -> 172.99225
A7: Michelle Engebertson | B7: ='Full Results'!V28 -> 0
A8: Markane Caldwell | B8: ='Full Results'!V23 -> 70.7575
A9: Dave Beversdorf | B9: ='Full Results'!V17 -> 127.2095
A10: Chris Forestier | B10: ='Full Results'!V5 -> 211.731
A11: Jon Myres | B11: ='Full Results'!V7 -> 178.272
A12: Vic Patterson | B12: ='Full Results'!V22 -> 80.91775

Sheet Teen
A1: Name | B1: SubCat | C1: Adj Total
A2: Brian Jenkins | B2: T2 | C2: ='Full Results'!V12 -> 141.0705
A3: Nick Russell | B3: T2 | C3: ='Full Results'!V15 -> 129.033
A4: Sergio Vences | B4: T2 | C4: ='Full Results'!V27 -> 50.622
A5: Kyle Livingston | B5: T3 | C5: ='Full Results'!V4 -> 243.765
